BEGIN:VCALENDAR
VERSION:2.0
PRODID:-//Atelier Pétula Green - ECPv5.8.0//NONSGML v1.0//EN
CALSCALE:GREGORIAN
METHOD:PUBLISH
X-WR-CALNAME:Atelier Pétula Green
X-ORIGINAL-URL:https://atelierpetulagreen.com
X-WR-CALDESC:évènements pour Atelier Pétula Green
BEGIN:VTIMEZONE
TZID:Europe/Paris
BEGIN:DAYLIGHT
TZOFFSETFROM:+0100
TZOFFSETTO:+0200
TZNAME:CEST
DTSTART:20260329T010000
END:DAYLIGHT
BEGIN:STANDARD
TZOFFSETFROM:+0200
TZOFFSETTO:+0100
TZNAME:CET
DTSTART:20261025T010000
END:STANDARD
END:VTIMEZONE
BEGIN:VEVENT
DTSTART;TZID=Europe/Paris:20260216T140000
DTEND;TZID=Europe/Paris:20260219T170000
DTSTAMP:20260420T115022
CREATED:20251220T090841Z
LAST-MODIFIED:20251220T090907Z
UID:4353-1771250400-1771520400@atelierpetulagreen.com
SUMMARY:Stages pour les vacances de février
DESCRIPTION:C’est parti pour les stages des vacances de février !! \nRendez-vous pendant la deuxième semaine des vacances\, du lundi 16 au vendredi 19 février. \nNous proposons des cours de couture\, d’aquarelle\, de bricolage et de dessin\, pour les enfants à partir de 6 ans. \nDécouvrez notre programme par ici et réservez vite votre place. \nInfo et réservation : atelierpetulagreen@gmail.com / 09.83.37.66.41 \n 
URL:https://atelierpetulagreen.com/evenement/stages-pour-les-vacances-de-fevrier/
ATTACH;FMTTYPE=image/jpeg:https://atelierpetulagreen.com/wp-content/uploads/2025/12/vacances-fevrier.jpg
END:VEVENT
END:VCALENDAR